{
 "currentVersion": 11.0,
 "serviceDescription": "PENDIENTE_MULALO",
 "name": "PENDIENTE_MULALO",
 "description": "",
 "extent": {
  "xmin": 4606583.926307814,
  "ymin": 1955247.706847555,
  "xmax": 4617082.029263026,
  "ymax": 1964835.890193105,
  "spatialReference": {
   "wkt": "PROJCS[\"MAGNA-SIRGAS_Origen-Nacional\",GEOGCS[\"GCS_MAGNA\",DATUM[\"D_MAGNA\",SPHEROID[\"GRS_1980\",6378137.0,298.257222101]],PRIMEM[\"Greenwich\",0.0],UNIT[\"Degree\",0.0174532925199433]],PROJECTION[\"Transverse_Mercator\"],PARAMETER[\"False_Easting\",5000000.0],PARAMETER[\"False_Northing\",2000000.0],PARAMETER[\"Central_Meridian\",-73.0],PARAMETER[\"Scale_Factor\",0.9992],PARAMETER[\"Latitude_Of_Origin\",4.0],UNIT[\"Meter\",1.0]],VERTCS[\"unknown\",VDATUM[\"unknown\"],PARAMETER[\"Vertical_Shift\",0.0],PARAMETER[\"Direction\",1.0],UNIT[\"Meter\",1.0]]"
  }
 },
 "initialExtent": {
  "xmin": 4606583.926307814,
  "ymin": 1955247.706847555,
  "xmax": 4617082.029263026,
  "ymax": 1964835.890193105,
  "spatialReference": {
   "wkt": "PROJCS[\"MAGNA-SIRGAS_Origen-Nacional\",GEOGCS[\"GCS_MAGNA\",DATUM[\"D_MAGNA\",SPHEROID[\"GRS_1980\",6378137.0,298.257222101]],PRIMEM[\"Greenwich\",0.0],UNIT[\"Degree\",0.0174532925199433]],PROJECTION[\"Transverse_Mercator\"],PARAMETER[\"False_Easting\",5000000.0],PARAMETER[\"False_Northing\",2000000.0],PARAMETER[\"Central_Meridian\",-73.0],PARAMETER[\"Scale_Factor\",0.9992],PARAMETER[\"Latitude_Of_Origin\",4.0],UNIT[\"Meter\",1.0]],VERTCS[\"unknown\",VDATUM[\"unknown\"],PARAMETER[\"Vertical_Shift\",0.0],PARAMETER[\"Direction\",1.0],UNIT[\"Meter\",1.0]]"
  }
 },
 "fullExtent": {
  "xmin": 4606583.926307814,
  "ymin": 1955247.706847555,
  "xmax": 4617082.029263026,
  "ymax": 1964835.890193105,
  "spatialReference": {
   "wkt": "PROJCS[\"MAGNA-SIRGAS_Origen-Nacional\",GEOGCS[\"GCS_MAGNA\",DATUM[\"D_MAGNA\",SPHEROID[\"GRS_1980\",6378137.0,298.257222101]],PRIMEM[\"Greenwich\",0.0],UNIT[\"Degree\",0.0174532925199433]],PROJECTION[\"Transverse_Mercator\"],PARAMETER[\"False_Easting\",5000000.0],PARAMETER[\"False_Northing\",2000000.0],PARAMETER[\"Central_Meridian\",-73.0],PARAMETER[\"Scale_Factor\",0.9992],PARAMETER[\"Latitude_Of_Origin\",4.0],UNIT[\"Meter\",1.0]],VERTCS[\"unknown\",VDATUM[\"unknown\"],PARAMETER[\"Vertical_Shift\",0.0],PARAMETER[\"Direction\",1.0],UNIT[\"Meter\",1.0]]"
  }
 },
 "sortableFields": "",
 "heightModelInfo": {
  "heightModel": "gravity_related_height",
  "vertCRS": "unknown",
  "heightUnit": "meter"
 },
 "bandCount": 1,
 "pixelType": "F32",
 "minValues": [
  0.026869362220168114
 ],
 "maxValues": [
  196.5875244140625
 ],
 "meanValues": [
  45.386930581751805
 ],
 "stdvValues": [
  24.331509817356135
 ],
 "hasMultidimensions": false,
 "pixelSizeX": 2.5205529304230216,
 "pixelSizeY": 2.520552929955303,
 "datasetFormat": "SDR",
 "uncompressedSize": 63374640,
 "blockWidth": 128,
 "blockHeight": 128,
 "compressionType": "NONE",
 "bandNames": [
  "Band_1"
 ],
 "allowCopy": true,
 "allowAnalysis": true,
 "minPixelSize": 0,
 "maxPixelSize": 0,
 "copyrightText": "",
 "serviceDataType": "esriImageServiceDataTypeGeneric",
 "serviceSourceType": "esriImageServiceSourceTypeDataset",
 "objectIdField": "",
 "fields": [],
 "capabilities": "Image,Metadata,Mensuration",
 "defaultMosaicMethod": "Center",
 "allowedMosaicMethods": "",
 "sortField": "",
 "sortValue": null,
 "sortAscending": true,
 "mosaicOperator": "First",
 "maxDownloadSizeLimit": 2097196,
 "defaultCompressionQuality": 75,
 "defaultResamplingMethod": "Bilinear",
 "maxImageHeight": 4100,
 "maxImageWidth": 15000,
 "allowRasterFunction": true,
 "rasterFunctionInfos": [
  {
   "name": "None",
   "description": "",
   "help": ""
  }
 ],
 "rasterTypeInfos": [
  {
   "name": "Raster Dataset",
   "description": "Supports all ArcGIS Raster Datasets",
   "help": ""
  }
 ],
 "mensurationCapabilities": "Basic",
 "hasHistograms": true,
 "hasColormap": false,
 "hasRasterAttributeTable": false,
 "minScale": 0,
 "maxScale": 0,
 "exportTilesAllowed": false,
 "supportsStatistics": false,
 "supportsAdvancedQueries": false,
 "editFieldsInfo": null,
 "ownershipBasedAccessControlForRasters": null,
 "allowComputeTiePoints": false,
 "useStandardizedQueries": true,
 "advancedQueryCapabilities": {
  "useStandardizedQueries": true,
  "supportsStatistics": false,
  "supportsOrderBy": false,
  "supportsDistinct": false,
  "supportsPagination": false
 },
 "spatialReference": {
  "wkt": "PROJCS[\"MAGNA-SIRGAS_Origen-Nacional\",GEOGCS[\"GCS_MAGNA\",DATUM[\"D_MAGNA\",SPHEROID[\"GRS_1980\",6378137.0,298.257222101]],PRIMEM[\"Greenwich\",0.0],UNIT[\"Degree\",0.0174532925199433]],PROJECTION[\"Transverse_Mercator\"],PARAMETER[\"False_Easting\",5000000.0],PARAMETER[\"False_Northing\",2000000.0],PARAMETER[\"Central_Meridian\",-73.0],PARAMETER[\"Scale_Factor\",0.9992],PARAMETER[\"Latitude_Of_Origin\",4.0],UNIT[\"Meter\",1.0]],VERTCS[\"unknown\",VDATUM[\"unknown\"],PARAMETER[\"Vertical_Shift\",0.0],PARAMETER[\"Direction\",1.0],UNIT[\"Meter\",1.0]]"
 }
}
