View In:
ArcGIS JavaScript
ArcGIS Online Map Viewer
ArcGIS Earth
ArcMap
View Footprint In:
ArcGIS Online Map Viewer
Service Description: Este servicio proporciona análisis de elevación basado en datos ráster.
Name: PRUEBAS/SLCS_COBERTURA_RASTER
Description: Este servicio proporciona análisis de elevación basado en datos ráster.
Single Fused Map Cache: false
Extent:
XMin: 4494193.552
YMin: 1900252.4385
XMax: 4699748.552
YMax: 2116537.4385
Spatial Reference: 9377
(9377)
Initial Extent:
XMin: 4494193.552
YMin: 1900252.4385
XMax: 4699748.552
YMax: 2116537.4385
Spatial Reference: 9377
(9377)
Full Extent:
XMin: 4494193.552
YMin: 1900252.4385
XMax: 4699748.552
YMax: 2116537.4385
Spatial Reference: 9377
(9377)
Pixel Size X: 5.0
Pixel Size Y: 5.000000000000005
Band Count: 1
Pixel Type: U8
RasterFunction Infos: {"rasterFunctionInfos": [{
"name": "None",
"description": "",
"help": ""
}]}
Mensuration Capabilities: Basic
Has Histograms: true
Has Colormap: false
Has Multi Dimensions : false
Rendering Rule:
Min Scale: 0
Max Scale: 0
Copyright Text:
Service Data Type: esriImageServiceDataTypeThematic
Min Values: 1
Max Values: 155
Mean Values: 30.72401373820615
Standard Deviation Values: 25.411723724985666
Object ID Field:
Fields:
None
Default Mosaic Method: Center
Allowed Mosaic Methods:
SortField:
SortValue: null
Mosaic Operator: First
Default Compression Quality: 75
Default Resampling Method: Bilinear
Max Record Count: null
Max Image Height: 4100
Max Image Width: 15000
Max Download Image Count: null
Max Mosaic Image Count: null
Allow Raster Function: true
Allow Copy: true
Allow Analysis: true
Allow Compute TiePoints: false
Supports Statistics: false
Supports Advanced Queries: false
Use StandardizedQueries: true
Raster Type Infos:
Name: Raster Dataset
Description: Supports all ArcGIS Raster Datasets
Help:
Has Raster Attribute Table: true
Edit Fields Info: null
Ownership Based AccessControl For Rasters: null
Child Resources:
Info
Raster Attribute Table
Histograms
Statistics
Key Properties
Legend
Raster Function Infos
Supported Operations:
Export Image
Identify
Measure
Compute Histograms
Compute Statistics Histograms
Get Samples
Compute Class Statistics
Query Boundary
Compute Pixel Location
Compute Angles
Validate
Project